BEGIN:VCALENDAR
VERSION:2.0
PRODID:-//Tukios.com/
BEGIN:VEVENT
UID:ed639a69-fde9-4666-bf68-e883cced3318@www.angelyssfuneralhome.com
DTSTAMP:20260422T001650Z
DTSTART:20260425T160000Z
DTEND:20260425T170000Z
SUMMARY:Funeral Service
DESCRIPTION:
URL:https://www.angelyssfuneralhome.com/obituaries/brittany-washington
LOCATION: 1504 NEWSOME RD.  MESQUITE TX 75149
GEO:32.7601;-96.5779633
END:VEVENT
END:VCALENDAR