BEGIN:VCALENDAR
VERSION:2.0
PRODID:-//Tukios.com/
BEGIN:VEVENT
UID:5540598a-9769-4cff-a20b-38a84408933d@www.angelyssfuneralhome.com
DTSTAMP:20260422T002338Z
DTSTART:20260425T200000Z
DTEND:20260425T234500Z
SUMMARY:Viewing
DESCRIPTION:
URL:https://www.angelyssfuneralhome.com/obituaries/brittany-washington
LOCATION: 324 W Kearney St  Mesquite TX 75149
GEO:32.7705722;-96.6016474
END:VEVENT
END:VCALENDAR